BEGIN:VCALENDAR
VERSION:2.0
PRODID:-//Reitgemeinschaft Mannheim-Neckarau - ECPv6.15.20//NONSGML v1.0//EN
CALSCALE:GREGORIAN
METHOD:PUBLISH
X-ORIGINAL-URL:https://www.rg-mannheim-neckarau.de
X-WR-CALDESC:Veranstaltungen für Reitgemeinschaft Mannheim-Neckarau
REFRESH-INTERVAL;VALUE=DURATION:PT1H
X-Robots-Tag:noindex
X-PUBLISHED-TTL:PT1H
BEGIN:VTIMEZONE
TZID:Europe/Berlin
BEGIN:DAYLIGHT
TZOFFSETFROM:+0100
TZOFFSETTO:+0200
TZNAME:CEST
DTSTART:20210328T010000
END:DAYLIGHT
BEGIN:STANDARD
TZOFFSETFROM:+0200
TZOFFSETTO:+0100
TZNAME:CET
DTSTART:20211031T010000
END:STANDARD
BEGIN:DAYLIGHT
TZOFFSETFROM:+0100
TZOFFSETTO:+0200
TZNAME:CEST
DTSTART:20220327T010000
END:DAYLIGHT
BEGIN:STANDARD
TZOFFSETFROM:+0200
TZOFFSETTO:+0100
TZNAME:CET
DTSTART:20221030T010000
END:STANDARD
BEGIN:DAYLIGHT
TZOFFSETFROM:+0100
TZOFFSETTO:+0200
TZNAME:CEST
DTSTART:20230326T010000
END:DAYLIGHT
BEGIN:STANDARD
TZOFFSETFROM:+0200
TZOFFSETTO:+0100
TZNAME:CET
DTSTART:20231029T010000
END:STANDARD
END:VTIMEZONE
BEGIN:VEVENT
DTSTART;VALUE=DATE:20221022
DTEND;VALUE=DATE:20221023
DTSTAMP:20260421T133609
CREATED:20220926T183651Z
LAST-MODIFIED:20221012T210953Z
UID:1237-1666396800-1666483199@www.rg-mannheim-neckarau.de
SUMMARY:Vereinsturnier mit anschließendem Oktoberfest
DESCRIPTION:Wir laden euch herzlich zu unserem traditionellen Vereinsturnier ein. \nHier bieten wir unseren Reitschülern jeden Alters die Möglichkeit an kleinen Prüfungen in Dressur und Springen teilzunehmen. Für das leibliche Wohl unserer Teilnehmer und Gäste ist den ganzen Tag gesorgt. \nNach einem erfolgreichen Start im vergangenen Jahr freuen wir uns auf das zweite gemeinsame Oktoberfest in der großen Reithalle im Anschluss an das Turnier. \nweitere Infos folgen in Kürze
URL:https://www.rg-mannheim-neckarau.de/kalender/vereinsturnier-mit-anschliessendem-oktoberfest/
CATEGORIES:Pensionsbetrieb,Schulbetrieb
END:VEVENT
BEGIN:VEVENT
DTSTART;VALUE=DATE:20221031
DTEND;VALUE=DATE:20221105
DTSTAMP:20260421T133609
CREATED:20221012T211420Z
LAST-MODIFIED:20221012T211420Z
UID:1893-1667174400-1667606399@www.rg-mannheim-neckarau.de
SUMMARY:Reitabzeichen-Vorbereitungskurse
DESCRIPTION:weitere Infos folgen in Kürze
URL:https://www.rg-mannheim-neckarau.de/kalender/reitabzeichen-vorbereitungskurse/
CATEGORIES:Schulbetrieb
END:VEVENT
END:VCALENDAR